BEGIN:VCALENDAR
PRODID:-//eluceo/ical//2.0/EN
VERSION:2.0
CALSCALE:GREGORIAN
BEGIN:VEVENT
UID:event-565
DTSTAMP:20260424T170210Z
SUMMARY:IV: Skillsweek Recruitmentlunch
DESCRIPTION:Deadline aanmelden: zondag 17 mei 23:59 uur. Let op: dit evene
 ment is alleen voor tweedejaars-\, derdejaars- en masterstudenten. Let op
 : CV toesturen vereist (mail naar extern@jfr.nl) Recruitmentlunch  De Car
 rière Commissie nodigt je van harte uit voor de Recruitmentlunch! Dit is 
 dé kans om in een ontspannen setting kennis te maken met topbedrijven en 
 hun medewerkers. Tijdens de lunch kun je in een informele sfeer ontdekken 
 wat verschillende organisaties jou te bieden hebben\, vragen stellen en ee
 n eerste indruk achterlaten. Mis deze unieke netwerkgelegenheid niet en ze
 t de eerste stap naar jouw carrière! 6 Top kantoren in een middag leren k
 ennen! La Gro is een full-service advocatenkantoor met vestigingen in Den 
 Haag en Alphen aan den Rijn. La Gro ziet zichzelf als strategisch partner 
 van cliënten waarbij ze problemen voorkomen\, organisaties toekomstbesten
 diger maken en bestuurders adviseren over de juiste koers. Bij La Gro hech
 ten ze veel waarde aan hun eigen cultuur. Persoonlijkheid\, nieuwsgierighe
 id\, ondernemendheid en vindingrijkheid staan daarom hoog in het vaandel! 
 Lexence is een vaste waarde op de zuidas van Amsterdam. De werkwijze van L
 exence is persoonlijk en ‘to the point’. Bij Lexence werken ze met 190
  kantoorgenoten in kleine teams op 11 rechtsgebieden\, waaronder Technolog
 y &amp\; Data\, Banking &amp\; Finance en Corporate / M&amp\;A. Bij Lexenc
 e hechten ze waarde aan de diversiteit binnen de teams en het creëren van
  een inclusief werkklimaat. AKD is een van de grootste advocatenkantoren i
 n Nederland\, met vestigingen in Amsterdam\, Breda\, Eindhoven en ons eige
 n mooie Rotterdam. AKD is een full-service kantoor met een brede en diepga
 ande sectorkennis. Met veel expertise op onder andere het gebied van hande
 lsrecht en bestuursrecht is het een van de toonaangevende kantoren van ons
  land. DVAN is een middelgroot advocatenkantoor gelegen vlak bij de Euroma
 st in Rotterdam. DVAN is een multi-service kantoor voor ondernemers\, inve
 steerders en familiebedrijven in het groot- en middenbedrijf. Met expertis
 e in fusies en overnames\, contractenrecht en arbeidsrecht werkt DVAN aan 
 de oplossingdie voor hun klanten werkt.  Moore DRV is een van de toonaang
 evende accountantskantoren in Nederland. Moore DRV levert juridisch advies
  aan ondernemingen van vennootschapsrechtelijke vraagstukken tot het opste
 llen van complexe commerciële contracten. Moorde DRV werkt voor onderneme
 rs in de echte economie en adviseert voornamelijk de mkb-ondernemer. Zij l
 eggen dan ook de nadruk op hoogwaardig advies in begrijpelijke taal. HVG L
 aw is een ambitieus full-service kantoor met een team van 150 advocaten en
  (kandidaat-)notarissen. Wat HVG Law uniek maakt is de strategische allian
 tie met EY Tax en dat zij uitmaken van het internationale EY Law netwerk. 
 HVG Law kent de kracht van verbinding en diversiteit en benadert daarom vr
 aagstukken vanuit multidisciplinaire en geïntergreerde teams.
DTSTART:20260522T103000Z
DTEND:20260522T140000Z
LOCATION:Rotterdam
END:VEVENT
BEGIN:VTIMEZONE
TZID:UTC
BEGIN:STANDARD
DTSTART:20260522T103000
TZNAME:UTC
TZOFFSETTO:+0000
TZOFFSETFROM:+0000
END:STANDARD
END:VTIMEZONE
END:VCALENDAR
