BEGIN:VCALENDAR
PRODID:-//eluceo/ical//2.0/EN
VERSION:2.0
CALSCALE:GREGORIAN
BEGIN:VEVENT
UID:event-413
DTSTAMP:20260421T090701Z
SUMMARY:Studiegroep Shift II
DESCRIPTION:Lieve eerstejaars\, Hulp nodig bij het studeren voor Recht\, Ec
 onomie en Maatschappij? Meld je dan nu aan voor de studiegroepen! Tijdens 
 deze studiegroepen zal een ouderejaarsstudent nog eens alle pijnpunten van
  de stof behandelen en handige tips geven voor je tentamen.  Let op: de
  studiegroepen bestaan uit twee shifts. Shift I vindt plaats op dinsdag 1
 1 maart\, waar probleem 1 t/m 4 en de bijpassende hoorcolleges uitgelegd w
 orden. Hiervoor kun je je via deze link aanmelden. Shift II vindt plaats 
 op donderdag 13 maart\, waar probleem 5 t/m 7 en de bijpassende hoorcolleg
 es uitgelegd worden. Hiervoor kun je je hierboven aanmelden. Aanmelden m
 ag voor beide shifts\, maar je kan jezelf natuurlijk ook voor één enkele
  shift aanmelden. Meld je snel aan\, want vol=vol
DTSTART:20250313T110000Z
DTEND:20250313T123000Z
LOCATION:Erasmus Universiteit Rotterdam
END:VEVENT
BEGIN:VTIMEZONE
TZID:UTC
BEGIN:STANDARD
DTSTART:20250313T110000
TZNAME:UTC
TZOFFSETTO:+0000
TZOFFSETFROM:+0000
END:STANDARD
END:VTIMEZONE
END:VCALENDAR
