BEGIN:VCALENDAR
PRODID:-//eluceo/ical//2.0/EN
VERSION:2.0
CALSCALE:GREGORIAN
BEGIN:VEVENT
UID:event-341
DTSTAMP:20260421T085250Z
SUMMARY:Studiegroep shift II
DESCRIPTION:Lieve eerstejaars\, Hulp nodig bij het studeren voor Inleiding 
 Rechtswetenschap? Meld je dan nu aan voor de studiegroepen! Tijdens deze s
 tudiegroepen zal een ouderejaarsstudent nog eens alle pijnpunten van de st
 of behandelen en handige tips geven voor je tentamen.  Let op: de studi
 egroepen bestaan uit twee shifts. Shift 1 is op dinsdag 1 oktober\, waar p
 robleem 1 t/m 4 en de bijpassende hoorcolleges uitgelegd worden. Hiervoor 
 kun je je via deze link aanmelden. Shift 2 is op donderdag 3 oktober\, waa
 r probleem 5 t/m 7 en de bijpassende hoorcolleges uitgelegd worden. Hierv
 oor kun je je hierboven aanmelden. Aanmelden mag voor beide shifts\, maar 
 je kan jezelf natuurlijk ook voor één enkele shift aanmelden. Meld je sn
 el aan\, want vol=vol
DTSTART:20241003T100000Z
DTEND:20241003T113000Z
LOCATION:Erasmus Universiteit Rotterdam
END:VEVENT
BEGIN:VTIMEZONE
TZID:UTC
BEGIN:STANDARD
DTSTART:20241003T100000
TZNAME:UTC
TZOFFSETTO:+0000
TZOFFSETFROM:+0000
END:STANDARD
END:VTIMEZONE
END:VCALENDAR
