BEGIN:VCALENDAR
PRODID:-//eluceo/ical//2.0/EN
VERSION:2.0
CALSCALE:GREGORIAN
BEGIN:VEVENT
UID:event-320
DTSTAMP:20260419T223924Z
SUMMARY:Aftertentamen BBQ
DESCRIPTION:Let op: dit evenement is alleen voor eerstejaars! Lieve Eerstej
 aars\, Het is alweer bijna zover\, het einde van het eerste jaar! Na het h
 arde studeren van Empirical Legal Studies moet je jezelf natuurlijk verwen
 nen. Daarom heeft de ONECIE voor jullie een heerlijke barbecue verzorgd vo
 or na het tentamen! Schrijf je in en ontspan na het laatste tentamen en ge
 niet van het begin van de zomer! Zien we je daar? Kusjes\, ONECIE Wees sne
 l\, want vol = vol!
DTSTART:20240628T150000Z
DTEND:20240628T180000Z
LOCATION:Kralingse Plas
END:VEVENT
BEGIN:VTIMEZONE
TZID:UTC
BEGIN:STANDARD
DTSTART:20240628T150000
TZNAME:UTC
TZOFFSETTO:+0000
TZOFFSETFROM:+0000
END:STANDARD
END:VTIMEZONE
END:VCALENDAR
