BEGIN:VCALENDAR
PRODID:-//eluceo/ical//2.0/EN
VERSION:2.0
CALSCALE:GREGORIAN
BEGIN:VEVENT
UID:event-275
DTSTAMP:20260420T054857Z
SUMMARY:Duurzaamheidsweek: Lenteborrel x Anything but a cup
DESCRIPTION:Tijdens de duurzaamheidsweek willen wij graag lekker met jullie
  borrelen. Het is een anything but a cup borrel\, dus zorg voor je eigen v
 ervanging van een beker en neem deze mee! Wat je hiervoor meeneemt is nat
 uurlijk helemaal aan jou\, dus wees lekker creatief! Daarnaast zal er tijd
 ens deze borrel een duurzaamheidsquiz zijn waarmee een leuke prijs te winn
 en valt! Ook zal tijdens de borrel in het kader van duurzaamheid een merc
 h-uitverkoop zijn!
DTSTART:20240320T190000Z
DTEND:20240320T225959Z
LOCATION:Café de Beurs
END:VEVENT
BEGIN:VTIMEZONE
TZID:UTC
BEGIN:STANDARD
DTSTART:20240320T190000
TZNAME:UTC
TZOFFSETTO:+0000
TZOFFSETFROM:+0000
END:STANDARD
END:VTIMEZONE
END:VCALENDAR
