BEGIN:VCALENDAR
PRODID:-//eluceo/ical//2.0/EN
VERSION:2.0
CALSCALE:GREGORIAN
BEGIN:VEVENT
UID:event-247
DTSTAMP:20260421T040011Z
SUMMARY:Inhousedag Meijburg Legal
DESCRIPTION:Lieve ouderejaars- en masterstudenten\, Op Maandag 5 februari 
 organiseert de JFR een inhousedag bij Meijburg Legal!  Gedurende deze dag
  zullen wij met een groep studenten meer te weten komen over alle taken bi
 nnen Meijburg legal.  Wat Meijburg Legal speciaal maakt is de mix aan 
 fiscaal recht en rechtsgeleerdheid die zij bieden. Met hun diverse vakgebi
 eden zijn zo vooruitstrevend in Banking &amp\; finance\, Corporate M&amp\
 ;A en private equity.  Het dagprogramma zal er grofweg als volgt uitzien:
   13:30    ontvangst 14:00    interactieve kennismakingsrondes 16:3
 0    borrel + Virtual Reality activiteit 18:00    einde Mocht je nog
  vragen hebben over de inhousedag\, neem dan contact op met de Commissar
 is Externe Betrekkingen\, Lola Veldhuizen\, via Extern@jfr.nl.
DTSTART:20240205T123000Z
DTEND:20240205T170000Z
LOCATION:Meijburg Legal
END:VEVENT
BEGIN:VTIMEZONE
TZID:UTC
BEGIN:STANDARD
DTSTART:20240205T123000
TZNAME:UTC
TZOFFSETTO:+0000
TZOFFSETFROM:+0000
END:STANDARD
END:VTIMEZONE
END:VCALENDAR
